BEGIN:VCALENDAR
VERSION:2.0
PRODID:-//wp-events-plugin.com//7.2.3.1//EN
BEGIN:VEVENT
UID:61@stafaa.org.uk
DTSTART:20250615T100000Z
DTEND:20250615T170000Z
DTSTAMP:20250427T181126Z
URL:https://stafaa.org.uk/events/beecraigs-archers-2d-animal-round-fun-sho
 ot-15th-june-2025/
SUMMARY:Beecraigs Archers 2D Animal Round Fun Shoot - 15th June 2025
DESCRIPTION:Beecraigs Archers would like to invite you to their 2D Animal R
 ound and fun shoot\n\nThis will take place at Beecraigs Field Archery rang
 e on Sunday 15th June 2025.\n\nIt will be shot using IFAA 2D Animal Round 
 rules and will NOT count as a classification shoot.\n\nAfter the 2D shoot 
 there will be various fun activities at the practice butts\, weighted ball
 on challenge\, 3D Animals\, shoot through the pipe etc.&nbsp\;\n\nAnd a co
 mpletely new round will be available to be shot after the 2D competition w
 here all styles shoot against each other.\n\nThis is an open competition t
 o which all archers from other Associations are kindly invited and will sh
 oot as guests covered by STAFAA insurance.\n\nAll Archers must present a v
 alid shoot card on the day.\n\nlocation of gate:\n\nhttps://what3words.com
 /unpacked.magazines.offers\n\nCourse location:\n\nhttps://what3words.com/s
 ilently.cheer.commenced\n\nThis is a 10am for 10:30am start.\n\nHot Food &
 amp\; drinks available\n\n&nbsp\;\n\nCost:\n\nAdults £8\n\nCubs/Juniors 
 £4\n\nHousehold Cap £15\n\nBooking will close on Friday 13th June at 11p
 m\n\nPlease use the following form to book in:\n\n[fluentform id="66"]\n\n
 &nbsp\;
ATTACH;FMTTYPE=image/jpeg:https://stafaa.org.uk/wp-content/uploads/2022/02
 /2d-moose.jpg
END:VEVENT
END:VCALENDAR