BEGIN:VCALENDAR
VERSION:2.0
PRODID:-//wp-events-plugin.com//7.2.3.1//EN
BEGIN:VEVENT
UID:23@stafaa.org.uk
DTSTART:20240407T100000Z
DTEND:20240407T170000Z
DTSTAMP:20240307T203918Z
URL:https://stafaa.org.uk/events/beecraigs-archers-hunter-round-2/
SUMMARY:Beecraigs Archers Hunter Round
DESCRIPTION:Beecraigs Archers would like to invite you to their Hunter Clas
 sification Shoot\n\nThis will take place at Beecraigs Field Archery range 
 on Sunday 7th April 2024.\n\nIt will be shot using IFAA Hunter Round rules
  and will count as a classification shoot.\n\nThis is an open competition 
 to which all archers from other Associations are kindly invited and will s
 hoot as guests covered by STAFAA insurance.\n\nAll Archers must present a 
 valid shoot card on the day.\n\nlocation of gate:\n\nhttps://what3words.co
 m/unpacked.magazines.offers\n\nCourse location:\n\nhttps://what3words.com/
 silently.cheer.commenced\n\nThis is a 10am for 10:30am start.\n\nHot Food 
 &amp\; drinks available\n\n&nbsp\;\n\nCost:\n\nAdults £8\n\nCubs/Juniors 
 £4\n\nBooking will close on Friday 5th April at 11pm\n\nPlease use the fo
 llowing form to book in:\n\n[fluentform id="29"]
ATTACH;FMTTYPE=image/jpeg:https://stafaa.org.uk/wp-content/uploads/2022/02
 /hunter-face.png
END:VEVENT
END:VCALENDAR