BEGIN:VCALENDAR
VERSION:2.0
PRODID:-//wp-events-plugin.com//7.2.3.1//EN
BEGIN:VEVENT
UID:62@stafaa.org.uk
DTSTART:20251005T093000Z
DTEND:20251005T163000Z
DTSTAMP:20250908T171955Z
URL:https://stafaa.org.uk/events/beecraigs-archers-poacher-round-club-cham
 pionship-5-10-2025/
SUMMARY:Beecraigs Archers Poacher Round (Club Championship) - 5-10-2025
DESCRIPTION:Beecraigs Archers would like to invite you to a Poacher round.\
 n\nThis will take place at Beecraigs Field Archery range on Sunday 5th Oct
 ober 2025.\n\nIt will be shot using a&nbsp\; combination of IFAA Hunter\, 
 Field\, Animal Round rules and will NOT count as a classification shoot.\n
 \nDon't forget to ring your arrows!\n\nThis is an open competition to whic
 h all archers from other Associations are kindly invited and will shoot as
  guests covered by STAFAA insurance.\n\nAll Archers must present a valid s
 hoot card on the day.\n\nThis competition will also incorporate the Beecra
 igs Archers Club Championship\, open to all Beecraigs Archers.\n\n&nbsp\;\
 n\nlocation of gate:\n\nhttps://what3words.com/unpacked.magazines.offers\n
 \nCourse location:\n\nhttps://what3words.com/silently.cheer.commenced\n\n&
 nbsp\;\n\nIt will be a 9:30am for 10:00am start\n\n&nbsp\;\n\n 	Hot food a
 nd drink will be available on the day\n\nCost:\n\nAdults £8\n\nCubs/Junio
 rs £4\n\nHousehold Cap £16\n\n&nbsp\;\n\nBooking will close on Friday 3r
 d October at 11pm\n\nPlease use the following form to book in:\n\n[fluentf
 orm id="67"]
ATTACH;FMTTYPE=image/jpeg:https://stafaa.org.uk/wp-content/uploads/2021/09
 /image.png
END:VEVENT
END:VCALENDAR