BEGIN:VCALENDAR
VERSION:2.0
PRODID:-//wp-events-plugin.com//7.2.3.1//EN
BEGIN:VEVENT
UID:12@stafaa.org.uk
DTSTART:20230827T100000Z
DTEND:20230827T170000Z
DTSTAMP:20230814T125721Z
URL:https://stafaa.org.uk/events/beecraigs-archers-poacher-round/
SUMMARY:Beecraigs Archers Poacher Round
DESCRIPTION:Beecraigs Archers would like to invite you to a Poacher round.\
 n\nThis will take place at Beecraigs Field Archery range on Sunday 27th Au
 gust 2023.\n\nIt will be a 10am for 10:30am start\n\nIt will be shot using
  a&nbsp\; combination of IFAA Hunter\, Field\, Animal Round rules and will
  NOT count as a classification shoot.\n\nDon't forget to ring your arrows!
 \n\nThis is an open competition to which all archers from other Associatio
 ns are kindly invited and will shoot as guests covered by STAFAA insurance
 .\n\nAll Archers must present a valid shoot card on the day.\n\nlocation o
 f gate:\n\nhttps://what3words.com/unpacked.magazines.offers\n\nCourse loca
 tion:\n\nhttps://what3words.com/silently.cheer.commenced\n\n&nbsp\;\n\nThi
 s competition will also incorporate the Beecraigs Archers Club Championshi
 p\, open to all Beecraigs Archers.\n\n 	Hot food and drink will be availab
 le on the day\n\nCost:\n\nAdults £8\n\nCubs/Juniors £4\n\nHousehold Cap 
 £16\n\n&nbsp\;\n\nBooking will close on Friday 25th August at 11pm\n\nPle
 ase use the following form to book in:\n\n[fluentform id="13"]
ATTACH;FMTTYPE=image/jpeg:https://stafaa.org.uk/wp-content/uploads/2021/09
 /image.png
END:VEVENT
END:VCALENDAR