BEGIN:VCALENDAR
VERSION:2.0
PRODID:-//wp-events-plugin.com//7.2.3.1//EN
BEGIN:VEVENT
UID:18@stafaa.org.uk
DTSTART:20230917T110000Z
DTEND:20230917T160000Z
DTSTAMP:20230830T195103Z
URL:https://stafaa.org.uk/events/beecraigs-field-archery-range-renaming-an
 d-eagle-eye-challenge/
SUMMARY:Beecraigs Field Archery Range Renaming and Eagle Eye Challenge
DESCRIPTION:
ATTACH;FMTTYPE=image/jpeg:https://stafaa.org.uk/wp-content/uploads/2021/09
 /image-9.png
END:VEVENT
END:VCALENDAR