BEGIN:VCALENDAR
VERSION:2.0
PRODID:-//wp-events-plugin.com//7.2.3.1//EN
BEGIN:VEVENT
UID:4@stafaa.org.uk
DTSTART:20230507T093000Z
DTEND:20230507T170000Z
DTSTAMP:20240522T194057Z
URL:https://stafaa.org.uk/events/castlefield-archers-field-round/
SUMMARY:Castlefield Archers Field Round
DESCRIPTION:Castlefield Archers would like to invite you to a Field round.\
 n\nThis will take place at Castlefield Field Archery range on Sunday 7th M
 ay 2023\n\nIt will be shot using IFAA Field Round rules and will count as 
 a classification shoot.\n\nThis is an open competition to which all archer
 s from other Associations are kindly invited and will shoot as guests cove
 red by STAFAA insurance.\n\nAll Archers must present a valid shoot card on
  the day.\n\nRange location:\n\nhttps://what3words.com/clockwork.animates.
 goats\n\nThis is a 9:00am for 9:30am start.\n\nHot Food &amp\; drinks avai
 lable\n\n&nbsp\;\n\nCost:\n\nAdults £8\n\nCubs/Juniors £4\n\nBooking wil
 l close on Friday 5th May at 11pm\n\nPlease book in using the following fo
 rm:\n\n[fluentform id="6"]
ATTACH;FMTTYPE=image/jpeg:https://stafaa.org.uk/wp-content/uploads/2022/02
 /field-face.jpg
END:VEVENT
END:VCALENDAR