BEGIN:VCALENDAR
VERSION:2.0
PRODID:-//wp-events-plugin.com//7.2.3.1//EN
BEGIN:VEVENT
UID:26@stafaa.org.uk
DTSTART:20240512T100000Z
DTEND:20240512T170000Z
DTSTAMP:20240426T124037Z
URL:https://stafaa.org.uk/events/dunbar-archery-club-target-shoot-2/
SUMMARY:Dunbar Archery Club Target Shoot
DESCRIPTION:Dunbar Archery club would like to invite you to a Target Archer
 y shoot.\n\nThis will take place at Belhaven Hill School playing fields on
  Sunday 12th May 2024\n\nIt will be shot using ArcheryGB styles and classi
 fications\n\nBowstyles:\n\nBarebow\n\nCompound\n\nRecurve\n\nIFAA bowstyle
 s conversion document here\n\n&nbsp\;\n\nYou may shoot carbon arrows but w
 e would prefer if archers shot aluminium/aluminium carbon composite arrows
  where possible\n\nWe cannot leave any arrows on the field at the end of t
 he day and carbons are harder to find.\n\n&nbsp\;\n\nAges:\n\nAdult\n\nUnd
 er 16\n\nUnder 14\n\n&nbsp\;\n\nCompetition groupings:\n\nRecurve - 50m on
  122cm Face\n\nRecurve/compound - 30m on 80cm Face\n\nCompound - 50m on re
 duced 80cm Face (inner 6 zones)\n\nUnder 14 - 20m on 122cm Face (all style
 s)\n\n&nbsp\;\n\nBelhaven Hill School playing fields Dunbar East Lothian\n
 \nWhat 3 words:\n\nhttps://w3w.co/prancing.blindfold.lucky\n\nmore detaile
 d directions: Belhaven Hill School Directions.docx\n\nIt's a 10 am for 10:
 30 am start\n\nPlease bring a packed lunch\n\n&nbsp\;\n\nCost:\n\nAdults 
 £10\n\nUnder 16 £5\n\nBooking will close on Friday 10th May at 11pm\n\nP
 lease use the following form to book in:\n\n&nbsp\;\n\n[fluentform id="32"
 ]
ATTACH;FMTTYPE=image/jpeg:https://stafaa.org.uk/wp-content/uploads/2022/02
 /target-face.png
END:VEVENT
END:VCALENDAR