BEGIN:VCALENDAR
VERSION:2.0
PRODID:-//wp-events-plugin.com//7.2.3.1//EN
BEGIN:VEVENT
UID:3@stafaa.org.uk
DTSTART:20230430T100000Z
DTEND:20230430T170000Z
DTSTAMP:20230424T084612Z
URL:https://stafaa.org.uk/events/dunbar-archery-club-target-shoot/
SUMMARY:Dunbar Archery Club Target Shoot
DESCRIPTION:Dunbar Archery club would like to invite you to a Target Archer
  shoot.\n\nThis will take place at Belhaven Hill School playing fields on 
 Sunday 30th April 2023\n\nIt will be shot using ArcheryGB styles and class
 ifications\n\nBowstyles:\n\nBarebow\n\nCompound\n\nRecurve\n\nIFAA bowstyl
 es conversion document here\n\n&nbsp\;\n\nAges:\n\nAdult\n\nUnder 16\n\nUn
 der 14\n\n&nbsp\;\n\nCompetition groupings:\n\nRecurve - 50m on 122cm Face
 \n\nRecurve - 30m on 80cm Face\n\nCompound - 50m on reduced 80cm Face (inn
 er 6 zones)\n\nUnder 14 - 20m on 122cm Face (all styles)\n\n&nbsp\;\n\nBel
 haven Hill School playing fields Dunbar East Lothian\n\nWhat 3 words:\n\nh
 ttps://w3w.co/prancing.blindfold.lucky\n\nmore detailed directions: Belhav
 en Hill School Directions.docx\n\nIt's a 10 am for 10:30 am start\n\nPleas
 e bring a packed lunch\n\n&nbsp\;\n\nCost:\n\nAdults £8\n\nCubs/Juniors 
 £4\n\nBooking will close on Friday 28th April at 11pm\n\nPlease use the f
 ollowing form to book in:\n\n[fluentform id="5"]\n\n&nbsp\;
ATTACH;FMTTYPE=image/jpeg:https://stafaa.org.uk/wp-content/uploads/2022/02
 /target-face.png
END:VEVENT
END:VCALENDAR