BEGIN:VCALENDAR
VERSION:2.0
PRODID:-//wp-events-plugin.com//7.2.3.1//EN
BEGIN:VEVENT
UID:36@stafaa.org.uk
DTSTART:20240922T100000Z
DTEND:20240922T170000Z
DTSTAMP:20240722T204032Z
URL:https://stafaa.org.uk/events/jim-greig-memorial-shoot-hosted-by-beecra
 igs-archers/
SUMMARY:Jim Greig Memorial Shoot Hosted by Beecraigs Archers
DESCRIPTION:STAFAA would like to invite you to the 2024 Jim Greig Memorial 
 shoot\n\nThe shoot will take place at the Beecraigs Archers field Range on
  22nd September 2024\n\nThe shoot will be an IFAA Expert round\, this will
  not be a classification shoot.\n\nThe Expert Round is a normal IFAA Field
  round however instead of scoring X\,5\,4\,3 the scoring will be X\,5\,4\,
 3\,2\,1\n\nIn addition there will be a competition across all divisions fo
 r the Jim Grieg Trophy which will be won based on a handicap system.\n\n&n
 bsp\;\n\nThere will also be the annual "Eagle Eye Challenge" which will be
  shot after the main shoot.\n\n&nbsp\;\n\nIt will be a 10:00am for 10:30am
  start\n\n&nbsp\;\n\nlocation of gate:\n\nhttps://what3words.com/unpacked.
 magazines.offers\n\nCourse location:\n\nhttps://what3words.com/silently.ch
 eer.commenced\n\n&nbsp\;\n\nHot food and drink will be available all day\n
 \n&nbsp\;\n\nEntry Fee will be:\n\nminimum £8 per adult\n\nminimum £4 pe
 r Junior/Cub\n\n&nbsp\;all monies will go to blue eyes charity.\n\n&nbsp\;
 \n\nEagle Eye competition will cost £1 on day\n\n&nbsp\;\n\n&nbsp\;\n\nBo
 oking in will close on Friday 20th September 11pm\n\nPlease book in using 
 the following form:\n\n[fluentform id="44"]
ATTACH;FMTTYPE=image/jpeg:https://stafaa.org.uk/wp-content/uploads/2021/09
 /image-9.png
END:VEVENT
END:VCALENDAR