BEGIN:VCALENDAR
VERSION:2.0
PRODID:-//wp-events-plugin.com//7.2.3.1//EN
BEGIN:VEVENT
UID:14@stafaa.org.uk
DTSTART:20230924T100000Z
DTEND:20230924T170000Z
DTSTAMP:20230911T202007Z
URL:https://stafaa.org.uk/events/jim-greig-memorial-shoot-hosted-by-castle
 field-archers/
SUMMARY:Jim Greig Memorial Shoot Hosted by Castlefield Archers
DESCRIPTION:STAFAA would like to invite you to the 2023 Jim Greig Memorial 
 shoot\n\nThe shoot will take place at the Castlefield Archers field Range 
 on 24th September 2023\n\nIt will be a 9:30am for 10am start\n\nThe shoot 
 will be an IFAA Expert round\, this will not be a classification shoot.\n\
 nThe Expert Round is a normal IFAA Field round however instead of scoring 
 X\,5\,4\,3 the scoring will be X\,5\,4\,3\,2\,1\n\nIn addition there will 
 be a competition across all divisions for the Jim Grieg Trophy which will 
 be won based on a handicap system.\n\n&nbsp\;\n\nWhat 3 words for Range:\n
 \n///clockwork.animates.goats\n\n&nbsp\;\n\nHot food and drink will be ava
 ilable all day\n\n&nbsp\;\n\nEntry Fee will be minimum £5 per person\, al
 l monies will go to charity selected by Jim's daughters.\n\nCash on the da
 y please\n\n&nbsp\;\n\nBooking in will close on Friday 22nd September 11pm
 \n\nPlease book in using the following form:\n\n[fluentform id="19"]
ATTACH;FMTTYPE=image/jpeg:https://stafaa.org.uk/wp-content/uploads/2021/09
 /image-11.png
END:VEVENT
END:VCALENDAR