BEGIN:VCALENDAR
VERSION:2.0
PRODID:-//wp-events-plugin.com//7.2.3.1//EN
BEGIN:VEVENT
UID:58@stafaa.org.uk
DTSTART:20250921T100000Z
DTEND:20250921T170000Z
DTSTAMP:20250918T081856Z
URL:https://stafaa.org.uk/events/jim-greig-memorial-shoot/
SUMMARY:Jim Greig Memorial Shoot Hosted by West Fife Archers - 21st Septemb
 er 2025
DESCRIPTION:STAFAA would like to invite you to the 2025 Jim Greig Memorial 
 shoot\n\nThe shoot will take place at the West Fife Archers Field Range on
  21st September 2025\n\nThe shoot will be an IFAA Expert round\, this will
  not be a classification shoot.\n\nThe Expert Round is a normal IFAA Field
  round however instead of scoring X\,5\,4\,3 the scoring will be X\,5\,4\,
 3\,2\,1\n\nIn addition there will be a competition across all divisions fo
 r the Jim Grieg Trophy which will be won based on a handicap system.\n\n&n
 bsp\;\n\nIt will be a 10:00am for 10:30am start\n\n&nbsp\;\n\nDirections:\
 n\nRange is just south of Knockhill racing circuit\n\nTurn off A823 toward
 s this location:\n\n///spin.pepper.fairly\n\n&nbsp\;\n\nHot food and drink
  will not be available\, please bring a packed lunch\n\n&nbsp\;\n\nEntry F
 ee will be:\n\nminimum £8 per adult\n\nminimum £4 per Junior/Cub\n\n&nbs
 p\;\n\n&nbsp\;\n\nBooking in will close on Friday 19th September 11pm\n\nP
 lease book in using the following form:\n\n[fluentform id="63"]
ATTACH;FMTTYPE=image/jpeg:https://stafaa.org.uk/wp-content/uploads/2021/09
 /image-12.png
END:VEVENT
END:VCALENDAR