BEGIN:VCALENDAR
VERSION:2.0
PRODID:-//wp-events-plugin.com//7.2.3.1//EN
BEGIN:VEVENT
UID:31@stafaa.org.uk
DTSTART:20240714T100000Z
DTEND:20240714T170000Z
DTSTAMP:20240313T215715Z
URL:https://stafaa.org.uk/events/loch-tummel-archers-field-round/
SUMMARY:Loch Tummel Archers Field Round
DESCRIPTION:Loch Tummel Archers would like to invite you to a Field round.\
 n\nThis will take place at Loch Tummel Field Archery range on Sunday 14th 
 July 2024.\n\nIt will be shot using IFAA Field Round rules and will count 
 as a classification shoot.\n\nThis is an open competition to which all arc
 hers from other Associations are kindly invited and will shoot as guests c
 overed by STAFAA insurance.\n\nAll Archers must present a valid shoot card
  on the day.\n\n&nbsp\;\n\n&nbsp\;10:00am for 10:30 start\n\nWhat 3 Words 
 location for parking is ///robot.scaffold.sharpness\n\nthe what 3 words fo
 r the gate to enter the range is ///hurricane.producing.tailing\n\n&nbsp\;
 \n\nHot Food &amp\; drinks available\n\n&nbsp\;\n\nCost:\n\nAdults £8\n\n
 Cubs/Juniors £4\n\nHousehold Cap £15\n\n&nbsp\;\n\nBooking will close on
  Friday 12th July at 11pm\n\nPlease use the following form to book in:\n\n
 [fluentform id="36"]
ATTACH;FMTTYPE=image/jpeg:https://stafaa.org.uk/wp-content/uploads/2022/02
 /field-face.jpg
END:VEVENT
END:VCALENDAR