BEGIN:VCALENDAR
VERSION:2.0
PRODID:-//wp-events-plugin.com//7.2.3.1//EN
BEGIN:VEVENT
UID:25@stafaa.org.uk
DTSTART:20240505T100000Z
DTEND:20240505T170000Z
DTSTAMP:20240307T210230Z
URL:https://stafaa.org.uk/events/loch-tummel-archers-hunter-round/
SUMMARY:Loch Tummel Archers Hunter Round
DESCRIPTION:Loch Tummel Archers would like to invite you to a Hunter round.
 \n\nThis will take place at Loch Tummel Field Archery range on Sunday 5th 
 May 2024.\n\n&nbsp\;10:00am for 10:30 start\n\nIt will be shot using IFAA 
 Hunter Round rules and will count as a classification shoot.\n\nThis is an
  open competition to which all archers from other Associations are kindly 
 invited and will shoot as guests covered by STAFAA insurance.\n\nAll Arche
 rs must present a valid shoot card on the day.\n\nWhat 3 Words location fo
 r parking is ///robot.scaffold.sharpness\n\nthe what 3 words for the gate 
 to enter the range is ///hurricane.producing.tailing\n\n&nbsp\;\n\nHot Foo
 d &amp\; drinks available\n\n&nbsp\;\n\nCost:\n\nAdults £8\n\nCubs/Junior
 s £4\n\nHousehold Cap £15\n\n&nbsp\;\n\nBooking will close on Friday 3rd
  May at 11pm\n\nPlease use the following form to book in:\n\n[fluentform i
 d="31"]
ATTACH;FMTTYPE=image/jpeg:https://stafaa.org.uk/wp-content/uploads/2022/02
 /hunter-face.png
END:VEVENT
END:VCALENDAR