BEGIN:VCALENDAR
VERSION:2.0
PRODID:-//wp-events-plugin.com//7.2.3.1//EN
BEGIN:VEVENT
UID:63@stafaa.org.uk
DTSTART:20250928T100000Z
DTEND:20250928T170000Z
DTSTAMP:20250914T202907Z
URL:https://stafaa.org.uk/events/lochside-golf-round-2-at-beecraigs-28-09-
 2025/
SUMMARY:Lochside Golf Round 2 at Beecraigs - 28-09-2025
DESCRIPTION:Announcing the 2nd Beecraigs Lochside Archery Golf Challenge!\n
 This will take place at Beecraigs Field Archery range on Sunday 28th Septe
 mber 2025.\nThe competition is returning with new and improved targets!\nD
 ate:&nbsp\;&nbsp\;&nbsp\;&nbsp\;&nbsp\;&nbsp\;&nbsp\;&nbsp\;&nbsp\;&nbsp\;
 &nbsp\;&nbsp\;&nbsp\;&nbsp\;&nbsp\;&nbsp\;&nbsp\;&nbsp\;&nbsp\;&nbsp\;&nbs
 p\;&nbsp\; 28/09/25\nTime:&nbsp\;&nbsp\;&nbsp\;&nbsp\;&nbsp\;&nbsp\;&nbsp\
 ;&nbsp\;&nbsp\;&nbsp\;&nbsp\;&nbsp\;&nbsp\;&nbsp\;&nbsp\;&nbsp\;&nbsp\;&nb
 sp\;&nbsp\;&nbsp\;&nbsp\;&nbsp\; 10:00 for 10:30\nEntry:&nbsp\;&nbsp\;&nbs
 p\;&nbsp\;&nbsp\;&nbsp\;&nbsp\;&nbsp\;&nbsp\;&nbsp\;&nbsp\;&nbsp\;&nbsp\;&
 nbsp\;&nbsp\;&nbsp\;&nbsp\;&nbsp\;&nbsp\;&nbsp\;&nbsp\; Adults £4\, cubs 
 and juniors £2\, open to all STAFAA members.\nSet up:&nbsp\;&nbsp\;&nbsp\
 ;&nbsp\;&nbsp\;&nbsp\;&nbsp\;&nbsp\;&nbsp\;&nbsp\;&nbsp\;&nbsp\;&nbsp\;&nb
 sp\;&nbsp\;&nbsp\;&nbsp\;&nbsp\;&nbsp\; No food this time\, just tea\, cof
 fee and biscuits. Bring a packed lunch.\n&nbsp\;\nAll rules for marked 2D 
 animal round apply except:\n\n\n 	The target features scoring zones tailor
 ed for each bow style ie FU\, BU\, FS\, BB\, BH\, TR\, LB/HB\, the zones a
 re labelled on the outside. 28 targets to be shot.\n 	You get 4 arrows to 
 hit your target zone. If you need a 4th arrow\, shoot it from the same peg
  as the 3rd arrow. Adults shoot adult pegs\, juniors shoot junior pegs etc
 .\n 	FU shooters need to be in the hole (ie break the line)\, all others t
 ouch your line to score.\n 	Your score is how many arrows you shoot:\n\n 	
 1 arrow = 1 point.\n 	2 arrows = 2 points.\n 	3 arrows = 3 points.\n 	4 ar
 rows = 4 points.\n 	No hit = 5 points.\n\n\n 	Example: If you shoot 1 arro
 w and you’re not sure if it’s a hit so you shoot another arrow that’
 s 2 arrows = score 2 – even if the first arrow was a hit! And if both mi
 ssed then you score 5! Help each other with spotting!☺️\n 	Lowest scor
 e wins. Minimum score is 28.\n 	Prizes for lowest scoring AF\, AM\, JF\, J
 M\, CF &amp\; CM.\n 	There are 3 face sizes. On the largest face\, longbow
 / historical shooters just need to be touching anywhere on the whole targe
 t to score!\n\nlocation of gate:\n\nhttps://what3words.com/unpacked.magazi
 nes.offers\n\nCourse location:\n\nhttps://what3words.com/silently.cheer.co
 mmenced\n\n&nbsp\;\n\nBooking will close on Friday 26th September at 11pm\
 n\nPlease use the following form to book in:\n\n[fluentform id="68"]\n\n&n
 bsp\;
ATTACH;FMTTYPE=image/jpeg:https://stafaa.org.uk/wp-content/uploads/2025/09
 /lochside-golf.jpg
END:VEVENT
END:VCALENDAR