BEGIN:VCALENDAR
VERSION:2.0
PRODID:-//wp-events-plugin.com//7.2.3.1//EN
BEGIN:VEVENT
UID:20@stafaa.org.uk
DTSTART:20231126T093000Z
DTEND:20231126T170000Z
DTSTAMP:20231118T203203Z
URL:https://stafaa.org.uk/events/mearns-archers-face-to-face-competition-s
 unday-26th-november-2023/
SUMMARY:Mearns Archers Face to Face Competition Sunday 26th November 2023
DESCRIPTION:This year we have a new competition to offer our archers\, the 
 Mearns Archers face to face competition.\n\nThe face to face competition f
 ormat allows archers who shoot similar scores to\nshoot against each other
  in a Round Robin tournament.\n\nArchers will be placed into a division of
  up to 6 people\, irrespective of age\,\ngender or bow style\, just those 
 who have been shooting similar scores to each other.\n\nWithin your divisi
 on you will have a face-to-face competition with each other\narcher in you
 r division. (See the table below for more details).The competition will ha
 ve a maximum of 10 divisions\n\nThe divisions will be made up of archers s
 hooting similar scores at indoor target rounds\, irrespective of bow style
 !\n\nArchers are grouped by ability so there will be no separation of bow 
 categories age or sex\nexcept possibly in the top divisions.\n\nTo find th
 e groupings for the divisions all entries require best 2 scores from:\n\nP
 ortsmouth\, WA18 or 30 arrows shot at a club (shot at 20 yards distance on
  60cm FITA face) and witnessed by a club official\n\nOr&nbsp\;\n\nIFAA ind
 oor round score or 30 arrows shot at 20 yards distance at IFAA indoor targ
 et (40cm) and witnessed by club official\n\n&nbsp\;\n\nCompetition format:
 \n\n&nbsp\;Practice - All archers will have 2 ends of practice. Archers 1\
 ,2\,3&amp\;4 prior to round 1 match\,\n\narchers 5&amp\;6 prior to round 2
  match. (practice is unlimited arrows in the 2 minute time period)\n\n&nbs
 p\;\n\nAt the end of shooting all matches\, archers in each division will 
 be ranked by match points\n\ngained with the top 3 gaining awards.\n\n&nbs
 p\;\n\nRound Robin Match format:\n\n3 sets (ends) of 3 arrows shot at 20 y
 ards on a 60cm FITA face (3 spot face will be available)\n\nIn each divisi
 on the 6 archers will shoot against each other in a round robin match sequ
 ence as\nper the chart below. There will be 2 matches simultaneously on ea
 ch boss. Archers competing\nagainst each other will shoot at the same time
 \, one on the left target and one on the right.\nShooting will follow the 
 normal AB-CD alternating sequence. Standard FITA timing of 2 min for 3\nar
 rows will be used\n\nScoring for each set will be:\n\nwin 2 points\n\ndraw
  1 point\n\nloss 0 points\n\nHighest point score after 3 sets is the winne
 r. Match points will similarly be\nwin 2 points\, draw 1 point\, loss 0 po
 ints\n\nIf there are less than 6 archers in a division\, bye matches will 
 still be shot and scored.\n\nTie breaks - archers with equal match points 
 will take part in a one end shoot off followed\, if\nrequired\, by a one a
 rrow\, closest to centre\, shoot off\n\n[ninja_tables id="9606"]\n\nLocati
 on:\n\nMearns Academy Sports Hall\,\n\nAberdeen Road\,\n\nLaurencekirk\,\n
 \nAB30 1ZJ\n\n&nbsp\;\n\nWhat Three Words:\n\n///nature.nylon.partner\n\n&
 nbsp\;\n\nArchers are grouped by ability so there will be no separation of
  bow categories age or sex\nexcept possibly in the top divisions. To find 
 the groupings for the divisions all entries require best 2 scores from Por
 tsmouth\, WA18 or\nminimum 30 arrows shot at a club (shot at 20 yards dist
 ance on 60cm FITA face) and witnessed by a club official.\n\n&nbsp\;\n\nCo
 st to shoot:\n\nSTAFAA\n\nSeniors (over 18) £13\n\nJuniors (under 18) £1
 0.\n\n&nbsp\;\n\nNon STAFAA (eg AGB\, SFAA)\n\nSeniors (over 18) £15\n\nJ
 uniors (under 18) £12\n\n&nbsp\;\n\nyou can book in via the online bookin
 g form below or via email using this PDF:\n\npdf booking form\n\nPlease re
 ad the attached pdf even if you are booking in via the online form\n\n&nbs
 p\;\n\nBooking In will close at 11pm on Friday 24th November 2023\n\n[flue
 ntform id="24"]
ATTACH;FMTTYPE=image/jpeg:https://stafaa.org.uk/wp-content/uploads/2022/02
 /target-face.png
END:VEVENT
END:VCALENDAR