BEGIN:VCALENDAR
VERSION:2.0
PRODID:-//wp-events-plugin.com//7.2.3.1//EN
BEGIN:VEVENT
UID:54@stafaa.org.uk
DTSTART:20250727T100000Z
DTEND:20250727T170000Z
DTSTAMP:20250628T093426Z
URL:https://stafaa.org.uk/events/mearns-archers-target-competition/
SUMMARY:Mearns Archers Target Competition - 27th July 2025
DESCRIPTION:\n 	Mearns Archers would like to invite you to an outdoor Targe
 t Competition\n\nThis will take place at&nbsp\; Playing fields across from
  Mearns Academy in Laurencekirk on Sunday 27th July 2025\n\nThis is an ope
 n competition to which all archers from other Associations are kindly invi
 ted and will shoot as guests covered by STAFAA insurance.\n\nAll Archers m
 ust present a valid shoot card on the day.\n\n&nbsp\;\n\nIt will be a 9:30
 am for 10:00am start\n\n&nbsp\;\n\nThe shoot will take place on the playin
 g fields across from the school\n\n///tungsten.bootleg.harmony\n\nMearns A
 cademy\,\n\nAberdeen Road\,\n\nLaurencekirk\,\n\nAB30 1ZJ\n\n&nbsp\;\n\nIt
  will be a 900 round\, 30 arrows shot at each of 60:50:40 metres in ends o
 f 6 arrows (5 ends at each distance) for adults\n\nand 30 arrows shot at e
 ach of 40:30:20 metres for under 18s and 25:20:15m for under 14s\n\nAll ca
 tegories (Compound\, Recurve\, Barebow) will shoot these distances\, all o
 n 122cm face.\n\nArchers may shoot a shorter distance however will not be 
 considered for medals.\n\nHere is a broad conversion guide for bow styles:
  ifaa-archerygb-style-guide\n\nThe shoot will take place on a school playi
 ng field so please use aluminium or aluminium/carbon composite arrows if p
 ossible. Anyone using all carbon arrows must find any lost arrows before l
 eaving the field.\n\n&nbsp\;\n\nPlease bring a packed lunch. (There is a C
 o-Op across the road)\n\n&nbsp\;\n\nCost\n\nPlease pay cash on the day\n\n
 Adults £10\n\nUnder 18s £5\n\nBooking will close on Friday 25th July at 
 11pm\n\nPlease use the following form to book in:\n\n[fluentform id="59"]
ATTACH;FMTTYPE=image/jpeg:https://stafaa.org.uk/wp-content/uploads/2022/02
 /target-face.png
END:VEVENT
END:VCALENDAR