BEGIN:VCALENDAR
VERSION:2.0
PRODID:-//wp-events-plugin.com//7.2.3.1//EN
BEGIN:VEVENT
UID:32@stafaa.org.uk
DTSTART:20240728T100000Z
DTEND:20240728T170000Z
DTSTAMP:20240722T203950Z
URL:https://stafaa.org.uk/events/stafaa-3d-championships-2024-hosted-by-ca
 stlefield-archers/
SUMMARY:STAFAA 3D Championships 2024 hosted by Castlefield Archers
DESCRIPTION:STAFAA invite you to enter the 2024 3D Championship on Sunday 2
 8th July hosted by Castlefield Archers\n\nCastlefield Archers will be host
 ing the Shoot at their Range near Dirleton East Lothian\n\nThis is an open
  championship to which all archers from other Associations are kindly invi
 ted and will shoot as guests covered by STAFAA insurance.\n\nAll Archers m
 ust present a valid shoot card on the day.\n\nRange location:\n\nhttps://w
 hat3words.com/clockwork.animates.goats\n\n10:00am for 10:30 start\n\nHot F
 ood &amp\; drinks available\n\n&nbsp\;\n\n&nbsp\;\n\nThe round will be bas
 ed on IFAA 3 arrow unmarked animal round with one of the group2 targets re
 placed with a herd of 3 animals\n\nThis will consist of 14 unmarked 3D whi
 ch will be shot twice.\n3 marked arrows as defined in an animal round\n\nS
 coring\n1st arrow kill = 20 points\n2nd arrow kill = 16 points\n3rd arrow 
 kill = 12 points\n1st arrow wound = 18 points\n2nd arrow wound = 14 points
 \n3rd arrow wound = 10 points\n\nFor herd:\n\n1 arrow to each animal\, 20 
 for kill\, 18 for wound if multiple arrows hit an animal earliest arrow sc
 ores.\n\nIt will be a Single marker lay-out:\n\nNo archer shall shoot from
  in front of the appropriate marker.\n\nMaximum of three feet to either si
 de of such marker.\n\nOne group shall not hold up the following group by l
 ooking for lost arrows.\n\nEnough arrows shall be carried so that each arc
 her may continue shooting and return to find missing arrows when shooting 
 has ceased.\n\nIf for any reason a group is holding up another group mutua
 l arrangement may be made between the target captains to allow the followi
 ng group to pass through.\n\nOptical devices may not be used as range find
 ers\,&nbsp\;cameras may only be used to take pictures and only after all a
 rchers in the group have finished shooting the target.\n\nDistances will n
 ot be discussed until all archers have shot.\n\nDon't forget to ring your 
 arrows!\n\n&nbsp\;\n\nBooking will close on Friday 26th July at 11pm\n\nPl
 ease book in using the following form:\n\n[fluentform id="37"]\n\n&nbsp\;\
 n\n&nbsp\;
ATTACH;FMTTYPE=image/jpeg:https://stafaa.org.uk/wp-content/uploads/2019/11
 /3d.jpg
END:VEVENT
END:VCALENDAR