BEGIN:VCALENDAR
VERSION:2.0
PRODID:-//wp-events-plugin.com//7.2.3.1//EN
BEGIN:VEVENT
UID:50@stafaa.org.uk
DTSTART:20250601T100000Z
DTEND:20250601T170000Z
DTSTAMP:20250416T202411Z
URL:https://stafaa.org.uk/events/stafaa-3d-championships-2025-hosted-by-we
 st-lothian-archers-1st-june-2025/
SUMMARY:STAFAA 3D Championships 2025 hosted by West Lothian Archers - 1st J
 une 2025
DESCRIPTION:STAFAA invite you to enter the 2025 3D Championship on Sunday 1
 st June hosted by West Lothian Archers\n\nWest Lothian Archers will be hos
 ting the Shoot at their Range in West Lothian\n\nThis is an open champions
 hip to which all archers from other Associations are kindly invited and wi
 ll shoot as guests covered by STAFAA insurance.\n\nAll Archers must presen
 t a valid shoot card on the day.\n\nRange location:\n\nlocation of gate fr
 om main road\n\n///along.rafters.shun\n\n10:00am for 10:30 start\n\nHot Fo
 od &amp\; drinks available\n\n&nbsp\;\n\n&nbsp\;\n\nThe round will be base
 d on IFAA 3 arrow unmarked animal round with one of the group2 targets rep
 laced with a herd of 3 animals\n\nThis will consist of 14 unmarked 3D whic
 h will be shot twice.\n3 marked arrows as defined in an animal round\n\nSc
 oring\n1st arrow kill = 20 points\n2nd arrow kill = 16 points\n3rd arrow k
 ill = 12 points\n1st arrow wound = 18 points\n2nd arrow wound = 14 points\
 n3rd arrow wound = 10 points\n\nFor herd:\n\n1 arrow to each animal\, 20 f
 or kill\, 18 for wound if multiple arrows hit an animal earliest arrow sco
 res.\n\nIt will be a Single marker lay-out:\n\nNo archer shall shoot from 
 in front of the appropriate marker.\n\nMaximum of three feet to either sid
 e of such marker.\n\nOne group shall not hold up the following group by lo
 oking for lost arrows.\n\nEnough arrows shall be carried so that each arch
 er may continue shooting and return to find missing arrows when shooting h
 as ceased.\n\nIf for any reason a group is holding up another group mutual
  arrangement may be made between the target captains to allow the followin
 g group to pass through.\n\nOptical devices may not be used as range finde
 rs\,&nbsp\;cameras may only be used to take pictures and only after all ar
 chers in the group have finished shooting the target.\n\nDistances will no
 t be discussed until all archers have shot.\n\nDon't forget to ring your a
 rrows!\n\n&nbsp\;\n\nCost:\n\nSTAFAA Members:\n\nAdults £12\n\nCubs/Junio
 rs £6\n\nHousehold Cap £20\n\n&nbsp\;\n\nNon STAFAA Members:\n\nAdults 
 £15\n\nUnder 18s £15\n\n&nbsp\;\n\n&nbsp\;\n\nBooking will close on Frid
 ay 30th May at 11pm\n\nPlease book in using the following form:\n\n[fluent
 form id="55"]\n\n&nbsp\;\n\n&nbsp\;
ATTACH;FMTTYPE=image/jpeg:https://stafaa.org.uk/wp-content/uploads/2019/11
 /3d.jpg
END:VEVENT
END:VCALENDAR