BEGIN:VCALENDAR
VERSION:2.0
PRODID:-//wp-events-plugin.com//7.2.3.1//EN
BEGIN:VEVENT
UID:29@stafaa.org.uk
DTSTART:20240602T100000Z
DTEND:20240602T170000Z
DTSTAMP:20240529T175119Z
URL:https://stafaa.org.uk/events/stafaa-accessible-3d-shoot-hosted-by-dunb
 ar-archery-club/
SUMMARY:STAFAA Accessible 3D shoot hosted by Dunbar Archery Club
DESCRIPTION:\n 	STAFAA would like to invite you to an accessible 3D shoot.\
 n\nThis will take place at Belhaven Hill School Playing fields on Sunday 2
 nd June 2024\n\nThis will be a 1 arrow IFAA style 3d shoot\, maximum dista
 nce 30 yards\n\nIt will be a marked distance round\, the scoring will be s
 uper kill\, kill\, wound\n\n&nbsp\;\n\nThis is an open competition to whic
 h all archers from other Associations are kindly invited and will shoot as
  guests covered by STAFAA insurance.\n\nAll Archers must present a valid s
 hoot card on the day.\n\n&nbsp\;\n\nIt will be a 10:00am for 10:30am start
 \n\n&nbsp\;\n\nPlease bring a packed lunch.\n\nHot drinks\, soft drinks an
 d biscuits will be available.\n\nBelhaven Hill School playing fields Dunba
 r East Lothian.\n\nWhat 3 words:\n\nhttps://w3w.co/prancing.blindfold.luck
 y\n\nMore detailed directions: Belhaven Hill School Directions.docx\n\n&nb
 sp\;\n\nCost:\n\n£8 for Adults\n\n£4 for Cubs/Juniors\n\nHousehold cap o
 f £15\n\nPayment can be made by bank transfer or on the day\n\nBooking wi
 ll close on Friday 31st May at 11pm\n\nPlease use the following form to bo
 ok in:\n\n[fluentform id="34"]
ATTACH;FMTTYPE=image/jpeg:https://stafaa.org.uk/wp-content/uploads/2019/11
 /3d.jpg
END:VEVENT
END:VCALENDAR