BEGIN:VCALENDAR
VERSION:2.0
PRODID:-//wp-events-plugin.com//7.2.3.1//EN
BEGIN:VEVENT
UID:19@stafaa.org.uk
DTSTART:20231112T090000Z
DTEND:20231112T160000Z
DTSTAMP:20231109T122730Z
URL:https://stafaa.org.uk/events/stafaa-indoor-championships-2023-sunday-1
 2-11-2023/
SUMMARY:STAFAA Indoor Championships 2023 SUNDAY 12/11/2023
DESCRIPTION:STAFAA would like to invite you to the Indoor championships 202
 3\n\nThe shoot will be on Sunday 12th November 2023\n\nThis is an indoor c
 ompetition which will be shot using IFAA Indoor round rules\,&nbsp\; shoot
 ing 12 five arrow ends at 20 yards for adults/Juniors and 10 yards for cub
 s at 40cm face\, scoring will be 5\,4\,3\,2\,1\n\n5 spot faces will be ava
 ilable on request\n\nNon STAFAA members may shoot as guests but will not b
 e eligible for the Championship.\n\nEntrants may shoot both morning and af
 ternoon sessions\, if you compete in the same style the morning score will
  count.&nbsp\;\n\nIf you want to shoot both sessions please submit a form 
 for each session\n\n&nbsp\;\n\nWe will be holding the competition at Grang
 emouth Sports Complex\,\n\n 	Abbots Road\,\nGrangemouth\,\nFK3 8JB\n\nHere
  are the what 3 words for the location\n\n///months.coins.ascendant\n\n&nb
 sp\;\n\nThere will be 2 sessions\n\nMorning Session:&nbsp\;&nbsp\;&nbsp\;&
 nbsp\;9.00am for 9.30am start.\nAfternoon Session: 12.00pm for 12.30pm sta
 rt.\n\nIf you want to shoot both sessions please submit a form for each se
 ssion\n\n&nbsp\;\n\nSTAFAA will provide an arojac for extracting arrows fr
 om the frames of butts if required\, please do not bring your own tools\, 
 we will be in a sports complex with members of the public.\n\n&nbsp\;\n\nT
 here should be food available from the sports complex from their cafe/vend
 ing machines however it would probably be wise to bring your own lunch.\n\
 n&nbsp\;\n\nCost:\n\nCost to Shoot:\n\nSTAFAA Members\n\nAdults: £15 per 
 session\n\nCubs/Juniors: £10 per session\n\n&nbsp\;\n\nNon STAFAA Members
 :\n\nAdults: £20 per session\n\n16 and under: £10 per session\n\n&nbsp\;
 \n\n&nbsp\;\n\nBooking In will close at 11pm on Friday 10th November 2023\
 n\nIf you want to shoot both sessions please submit a form for each sessio
 n\n\nPlease book in using the form below (form opens 9th October 2023):\n\
 n&nbsp\;\n\nAFTERNOON SESSION NOW FULL PLEASE ONLY BOOK MORNING SESSION\n\
 n&nbsp\;\n\n[fluentform id="20"]
ATTACH;FMTTYPE=image/jpeg:https://stafaa.org.uk/wp-content/uploads/2023/09
 /IFAA-indoor-Faces.jpg
END:VEVENT
END:VCALENDAR