BEGIN:VCALENDAR
VERSION:2.0
PRODID:-//wp-events-plugin.com//7.2.3.1//EN
BEGIN:VEVENT
UID:21@stafaa.org.uk
DTSTART:20240211T090000Z
DTEND:20240211T170000Z
DTSTAMP:20240127T123137Z
URL:https://stafaa.org.uk/events/stafaa-indoor-championships-2024-sunday-1
 1-02-2024/
SUMMARY:STAFAA Indoor Championships 2024 SUNDAY 11/02/2024
DESCRIPTION:STAFAA would like to invite you to the Indoor championships 202
 4\n\nThe shoot will be on Sunday 11th February 2024\n\nThis is an indoor c
 ompetition which will be shot using IFAA Indoor round rules\,&nbsp\; shoot
 ing 12 five arrow ends at 20 yards for adults/Juniors and 10 yards for cub
 s at 40cm face\, scoring will be 5\,4\,3\,2\,1\n\n5 spot faces will be ava
 ilable on request\n\nNon STAFAA members may shoot as guests but will not b
 e eligible for the Championship.\n\nEntrants may shoot both morning and af
 ternoon sessions\, if you compete in the same style the morning score will
  count.&nbsp\;\n\nIf you want to shoot both sessions please submit a form 
 for each session\n\n&nbsp\;\n\nThere will also be a Team competition using
  scores of registered teams\, see link below for rules and registration\n\
 nhttps://stafaa.org.uk/indoor-team-registration/\n\n&nbsp\;\n\nWe will be 
 holding the competition at Grangemouth Sports Complex\,\n\n 	Abbots Road\,
 \nGrangemouth\,\nFK3 8JB\n\nHere are the what 3 words for the location\n\n
 ///months.coins.ascendant\n\n&nbsp\;\n\nThere will be 2 sessions\n\nMornin
 g Session:&nbsp\;&nbsp\;&nbsp\;&nbsp\;9.00am for 9.30am start.\nAfternoon 
 Session: 12.00pm for 12.30pm start.\n\nIf you want to shoot both sessions 
 please submit a form for each session\n\n&nbsp\;\n\nSTAFAA will provide an
  arojac for extracting arrows from the frames of butts if required\, pleas
 e do not bring your own tools\, we will be in a sports complex with member
 s of the public.\n\n&nbsp\;\n\nThere should be food available from the spo
 rts complex from their cafe/vending machines however it would probably be 
 wise to bring your own lunch.\n\n&nbsp\;\n\nCost:\n\nCost to Shoot:\n\nSTA
 FAA Members\n\nAdults: £15 per session\n\nCubs/Juniors: £10 per session\
 n\n&nbsp\;\n\nNon STAFAA Members:\n\nAdults: £20 per session\n\n16 and un
 der: £10 per session\n\n&nbsp\;\n\n&nbsp\;\n\nBooking In will close at 11
 pm on Friday 9th February 2024\n\nIf you want to shoot both sessions pleas
 e submit a form for each session\n\nPlease book in using the form below (f
 orm opens 1st January 2024):\n\n***** PLEASE NOTE the PM Session is nearly
  full only 2 cub slots are left\, if Adult or Junior please book into AM s
 ession *****\n\n[fluentform id="26"]
ATTACH;FMTTYPE=image/jpeg:https://stafaa.org.uk/wp-content/uploads/2023/09
 /IFAA-indoor-Faces.jpg
END:VEVENT
END:VCALENDAR