BEGIN:VCALENDAR
VERSION:2.0
PRODID:-//wp-events-plugin.com//7.2.3.1//EN
BEGIN:VEVENT
UID:64@stafaa.org.uk
DTSTART;TZID=Europe/London:20260208T090000
DTEND;TZID=Europe/London:20260208T170000
DTSTAMP:20251212T131941Z
URL:https://stafaa.org.uk/events/stafaa-indoor-field-championships-2026-su
 nday-08-02-2026/
SUMMARY:STAFAA Indoor Field Championships 2026 Sunday 08-02-2026
DESCRIPTION:STAFAA would like to invite you to the Indoor Field Championshi
 ps 2026\n\nThe shoot will be on Sunday 8th February 2026\n\nThis is an ind
 oor competition which will be shot using IFAA Indoor round rules\,&nbsp\; 
 shooting 12 five arrow ends at 20 yards for adults/Juniors and 10 yards fo
 r cubs at 40cm face\, scoring will be x\,5\,4\,3\,2\,1\n\n5 spot faces wil
 l be available on request\n\nNon STAFAA members may shoot as guests (must 
 be member of other archery association) but will not be eligible for the C
 hampionship.\n\nEntrants may shoot both morning and afternoon sessions\, i
 f you compete in the same style the morning score will count.&nbsp\;\n\nIf
  you want to shoot both sessions please submit a form for each session\n\n
 &nbsp\;\n\nThere will also be a Team competition using scores of registere
 d teams\, see link below for rules and registration\n\nhttps://stafaa.org.
 uk/indoor-team-registration/\n\n&nbsp\;\n\nWe will be holding the competit
 ion at Grangemouth Sports Complex\,\n\n 	Abbots Road\,\nGrangemouth\,\nFK3
  8JB\n\nHere are the what 3 words for the location\n\n///months.coins.asce
 ndant\n\n&nbsp\;\n\nThere will be 2 sessions\n\nMorning Session:&nbsp\;&nb
 sp\;&nbsp\;&nbsp\;9.00am for 9.30am start.\nAfternoon Session: 12.00pm for
  12.30pm start.\n\nIf you want to shoot both sessions please submit a form
  for each session\n\n&nbsp\;\n\nSTAFAA will provide an arojac for extracti
 ng arrows from the frames of butts if required\, please do not bring your 
 own tools\, we will be in a sports complex with members of the public.\n\n
 &nbsp\;\n\nThere should be food available from the sports complex from the
 ir cafe/vending machines however it would probably be wise to bring your o
 wn lunch.\n\n&nbsp\;\n\nCost:\n\nCost to Shoot:\n\nSTAFAA Members\n\nAdult
 s: £15 per session\n\nCubs/Juniors: £10 per session\n\n&nbsp\;\n\nNon ST
 AFAA Members:\n\nAdults: £20 per session\n\n16 and under: £10 per sessio
 n\n\n&nbsp\;\n\n&nbsp\;\n\nBooking In will close at 11pm on Friday 6th Feb
 ruary 2026\n\nIf you want to shoot both sessions please submit a form for 
 each session\n\nPlease book in using the form below (form opens 20th Decem
 ber 2025):\n\n&nbsp\;\n\n[fluentform id="72"]
ATTACH;FMTTYPE=image/jpeg:https://stafaa.org.uk/wp-content/uploads/2023/09
 /IFAA-indoor-Faces.jpg
END:VEVENT
BEGIN:VTIMEZONE
TZID:Europe/London
X-LIC-LOCATION:Europe/London
BEGIN:STANDARD
DTSTART:20251026T010000
TZOFFSETFROM:+0100
TZOFFSETTO:+0000
TZNAME:GMT
END:STANDARD
END:VTIMEZONE
END:VCALENDAR