BEGIN:VCALENDAR
VERSION:2.0
PRODID:-//wp-events-plugin.com//7.2.3.1//EN
BEGIN:VEVENT
UID:17@stafaa.org.uk
DTSTART:20231021T090000Z
DTEND:20231021T160000Z
DTSTAMP:20230920T202953Z
URL:https://stafaa.org.uk/events/stafaa-indoor-flint-championships-2023-sa
 turday-21-10-2023/
SUMMARY:STAFAA Indoor Flint Championships 2023 SATURDAY 21/10/2023
DESCRIPTION:STAFAA would like to invite you to the Indoor Flint championshi
 ps 2023\n\nThe shoot will be on SATURDAY 21st October 2023\n\nThis is an i
 ndoor competition which will be shot using IFAA Flint round rules\,&nbsp\;
  shooting 14 four arrow ends at distances between 10 feet and 30 yards\n\n
 Non STAFAA members may shoot as guests but will not be eligible for the Ch
 ampionship.\n\nEntrants may shoot both morning and afternoon sessions\, if
  you compete in the same style the morning score will count.&nbsp\;\n\nIf 
 you want to shoot both sessions please submit a form for each session\n\n&
 nbsp\;\n\nWe will be holding the competition at Grangemouth Sports Complex
 \,\n\n 	Abbots Road\,\nGrangemouth\,\nFK3 8JB\n\nHere are the what 3 words
  for the location\n\n///months.coins.ascendant\n\n&nbsp\;\n\nThere will be
  2 sessions\n\nMorning Session:&nbsp\;&nbsp\;&nbsp\;&nbsp\;9.00am for 9.30
 am start.\nAfternoon Session: 12.00pm for 12.30pm start.\n\nIf you want to
  shoot both sessions please submit a form for each session\n\n&nbsp\;\n\nS
 TAFAA will provide an arojac for extracting arrows from the frames of butt
 s if required\, please do not bring your own tools\, we will be in a sport
 s complex with members of the public.\n\n&nbsp\;\n\nThere should be food a
 vailable from the sports complex from their cafe/vending machines however 
 it would probably be wise to bring your own lunch.\n\n&nbsp\;\n\nCost:\n\n
 Cost to Shoot:\n\nSTAFAA Members\n\nAdults: £15 per session\n\nCubs/Junio
 rs: £10 per session\n\n&nbsp\;\n\nNon STAFAA Members:\n\nAdults: £20 per
  session\n\n16 and under: £10 per session\n\n&nbsp\;\n\n&nbsp\;\n\nBookin
 g In will close at 11pm on THURSDAY 19th October&nbsp\;2023\n\nIf you want
  to shoot both sessions please submit a form for each session\n\nPlease bo
 ok in using the form below (form opens 25th September 2023:\n\n[fluentform
  id="17"]
ATTACH;FMTTYPE=image/jpeg:https://stafaa.org.uk/wp-content/uploads/2023/08
 /flint-faces.jpg
END:VEVENT
END:VCALENDAR