BEGIN:VCALENDAR
VERSION:2.0
PRODID:-//wp-events-plugin.com//7.2.3.1//EN
BEGIN:VEVENT
UID:60@stafaa.org.uk
DTSTART:20251116T090000Z
DTEND:20251116T170000Z
DTSTAMP:20251113T204857Z
URL:https://stafaa.org.uk/events/stafaa-indoor-flint-championships-2025/
SUMMARY:STAFAA Indoor Flint Championships 2025 - Sunday 16th November 2025
DESCRIPTION:STAFAA would like to invite you to the Indoor Flint championshi
 ps 2025\n\nThe shoot will be on Sunday 16th November 2025\n\nThis is an in
 door competition which will be shot using IFAA Flint round rules\,&nbsp\; 
 shooting 14 four arrow ends at distances between 20 feet and 30 yards\n\nN
 on STAFAA members may shoot as guests but will not be eligible for the Cha
 mpionship.\n\nEntrants may shoot both morning and afternoon sessions\, if 
 you compete in the same style the morning score will count.&nbsp\;\n\nIf y
 ou want to shoot both sessions please submit a form for each session\n\n&n
 bsp\;\n\nWe will be holding the competition at Grangemouth Sports Complex\
 ,\n\n 	Abbots Road\,\nGrangemouth\,\nFK3 8JB\n\nHere are the what 3 words 
 for the location\n\n///months.coins.ascendant\n\n&nbsp\;\n\nThere will be 
 2 sessions\n\nMorning Session:&nbsp\;&nbsp\;&nbsp\;&nbsp\;9.00am for 9.30a
 m start.\nAfternoon Session: 12.00pm for 12.30pm start.\n\nIf you want to 
 shoot both sessions please submit a form for each session\n\n&nbsp\;\n\nST
 AFAA will provide an arojac for extracting arrows from the frames of butts
  if required\, please do not bring your own tools\, we will be in a sports
  complex with members of the public.\n\n&nbsp\;\n\nThere should be food av
 ailable from the sports complex from their cafe/vending machines however i
 t would probably be wise to bring your own lunch.\n\n&nbsp\;\n\nCost:\n\nC
 ost to Shoot:\n\nSTAFAA Members\n\nAdults: £15 per session\n\nCubs/Junior
 s: £10 per session\n\n&nbsp\;\n\nNon STAFAA Members:\n\nAdults: £20 per 
 session\n\n16 and under: £10 per session\n\n&nbsp\;\n\n&nbsp\;\n\nBooking
  In will close at 11pm on Friday 14th November 2025\n\nIf you want to shoo
 t both sessions please submit a form for each session\n\nPlease book in us
 ing the form below:\n\n&nbsp\;\n\n[fluentform id="65"]
ATTACH;FMTTYPE=image/jpeg:https://stafaa.org.uk/wp-content/uploads/2023/08
 /flint-faces.jpg
END:VEVENT
END:VCALENDAR