BEGIN:VCALENDAR
VERSION:2.0
PRODID:-//wp-events-plugin.com//7.2.3.1//EN
BEGIN:VEVENT
UID:59@stafaa.org.uk
DTSTART;TZID=Europe/London:20251019T090000
DTEND;TZID=Europe/London:20251019T160000
DTSTAMP:20250313T194920Z
URL:https://stafaa.org.uk/events/stafaa-indoor-target-championships-2025/
SUMMARY:STAFAA Indoor Target Championships 2025 SUNDAY - 19th October 2025
DESCRIPTION:STAFAA would like to invite you to the Indoor Target championsh
 ips 2025\n\nThe shoot will be on Sunday 19th October 2025\n\nThis is an in
 door competition which will be shot using WA Indoor 25m round rules\,&nbsp
 \; shooting 20 three arrow ends at 25 metres for adults/Juniors at 60cm fa
 ce and 15 metres for cubs at 60cm face\, scoring will be 10\,9\,8\,7\,6\,5
 \,4\,3\,2\,1 (10\,9\,8\,7\,6 for 3 spot faces)\n\n3 spot faces will be ava
 ilable on request\n\nNon STAFAA members (must be member of another archery
  association) may shoot as guests but will not be eligible for the Champio
 nship.\n\nEntrants may shoot both morning and afternoon sessions\, if you 
 compete in both sessions in the same style only the morning score will cou
 nt.&nbsp\;\n\nIf you want to shoot both sessions please submit a form for 
 each session\n\n&nbsp\;\n\nWe will be holding the competition at Grangemou
 th Sports Complex\,\n\n 	Abbots Road\,\nGrangemouth\,\nFK3 8JB\n\nHere are
  the what 3 words for the location\n\n///months.coins.ascendant\n\n&nbsp\;
 \n\nThere will be 2 sessions\n\nMorning Session:&nbsp\;&nbsp\;&nbsp\;&nbsp
 \;9.00am for 9.30am start.\nAfternoon Session: 12.00pm for 12.30pm start.\
 n\nIf you want to shoot both sessions please submit a form for each sessio
 n\n\n&nbsp\;\n\nSTAFAA will provide an arojac for extracting arrows from t
 he frames of butts if required\, please do not bring your own tools\, we w
 ill be in a sports complex with members of the public.\n\n&nbsp\;\n\nThere
  should be food available from the sports complex from their cafe/vending 
 machines however it would probably be wise to bring your own lunch.\n\n&nb
 sp\;\n\nCost to Shoot:\n\nSTAFAA Members\n\nAdults: £15 per session\n\nCu
 bs/Juniors: £10 per session\n\n&nbsp\;\n\nNon STAFAA Members:\n\nAdults: 
 £20 per session\n\n16 and under: £10 per session\n\n&nbsp\;\n\n&nbsp\;\n
 \nBooking In will close at 11pm on Friday 17th October 2025\n\nIf you want
  to shoot both sessions please submit a form for each session\n\nPlease bo
 ok in using the form below :\n\n&nbsp\;\n\n[fluentform id="64"]\n\n&nbsp\;
ATTACH;FMTTYPE=image/jpeg:https://stafaa.org.uk/wp-content/uploads/2022/02
 /target-face.png
END:VEVENT
BEGIN:VTIMEZONE
TZID:Europe/London
X-LIC-LOCATION:Europe/London
BEGIN:DAYLIGHT
DTSTART:20250330T020000
TZOFFSETFROM:+0000
TZOFFSETTO:+0100
TZNAME:BST
END:DAYLIGHT
END:VTIMEZONE
END:VCALENDAR