BEGIN:VCALENDAR
VERSION:2.0
PRODID:-//wp-events-plugin.com//7.2.3.1//EN
BEGIN:VEVENT
UID:13@stafaa.org.uk
DTSTART:20230909T090000Z
DTEND:20230910T170000Z
DTSTAMP:20230812T084838Z
URL:https://stafaa.org.uk/events/stafaa-outdoor-field-championships-2023-h
 osted-by-loch-tummel-archers/
SUMMARY:STAFAA Outdoor Field Championships 2023 Hosted by Loch Tummel Arche
 rs
DESCRIPTION:STAFAA&nbsp\; would like to invite you to the STAFAA 2023 Outdo
 or Field Championship.\n\nNon STAFAA members may shoot as guests but will 
 not be eligible for the Championship.\n\nThis will take place at Loch Tumm
 el Field Archery range on Saturday 9th September and&nbsp\; Sunday 10th Se
 ptember 2023.\n\nWhat 3 Words location for parking is ///robot.scaffold.sh
 arpness\n\nthe what 3 words for the gate to enter the range is ///hurrican
 e.producing.tailing\n\n&nbsp\;\n\nSaturday round 1 will be shot using IFAA
  Field Round rules and will count as a classification shoot.\n\nSaturday r
 ound 2 will be a half round shot using IFAA 3 Arrow 2D Animal round rules 
 and will not count as a classification shoot.\n\nDon't forget to ring your
  arrows!\n\nSunday will be shot using IFAA Hunter Round rules and will cou
 nt as a classification shoot.\n\nThis is a 2 day event\, if you wish to bo
 ok in for one day\, please complete a form\n\n&nbsp\;\n\nThis is a 9am for
  9:30am start both days.\n\nHot Food &amp\; drinks available.\n\n&nbsp\;\n
 \nCost to Shoot:\n\nSTAFAA Members\n\nAdults: £20 for the both days\, £1
 2 for one day\n\nCubs/Juniors: £8 for both days\, £4 for one day&nbsp\;\
 n\nHousehold Cap £40 for both days\n\nNon STAFAA Members:\n\nAdults: £25
  for both days\, £15 for one day\n\n16 and under: £10 for both days\, £
 6 for one day\n\nPayment for the shoot is kindly requested by Bank Transfe
 r to:\n\nAccount Name: Scottish Target and Field Archery Association\n\nAc
 count No: 23151465\n\nSort Code: 80-22-60\n\nReference: "Outdoor Your Name
 "\n\nPayment can be made on the day if required.\n\n&nbsp\;\n\nBooking In 
 will close at 11pm on THURSDAY 7th September 2023\n\nPlease book in using 
 the form below:\n\n[fluentform id="16"]
ATTACH;FMTTYPE=image/jpeg:https://stafaa.org.uk/wp-content/uploads/2019/11
 /cropped-STAFAA-logo-1.jpg
END:VEVENT
END:VCALENDAR