BEGIN:VCALENDAR
VERSION:2.0
PRODID:-//wp-events-plugin.com//7.2.3.1//EN
BEGIN:VEVENT
UID:57@stafaa.org.uk
DTSTART:20250906T090000Z
DTEND:20250907T170000Z
DTSTAMP:20250313T193029Z
URL:https://stafaa.org.uk/events/stafaa-outdoor-field-championships-2025/
SUMMARY:STAFAA Outdoor Field Championships 2025 Hosted by Castlefield Arche
 rs - 6-7th September 2025
DESCRIPTION:STAFAA&nbsp\; would like to invite you to the STAFAA 2025 Outdo
 or Field Championship.\n\nNon STAFAA members may shoot as guests but will 
 not be eligible for the Championship.\n\nThis will take place at Castlefie
 ld Archers Field Archery range on Saturday 6th September and&nbsp\; Sunday
  7th September 2025.\n\n&nbsp\;\n\n&nbsp\;\n\nSaturday round 1 will be sho
 t using IFAA Field Round rules and will count as a classification shoot.\n
 \nSaturday round 2 will be a half round shot using IFAA 3 Arrow 2D Animal 
 round rules and will not count as a classification shoot.\n\nDon't forget 
 to ring your arrows!\n\nSunday will be shot using IFAA Hunter Round rules 
 and will count as a classification shoot.\n\nThis is a 2 day event\, if yo
 u wish to book in for one day\, please complete a form\n\n&nbsp\;\n\nDirec
 tions:\n\nThe range is near Gullane in East Lothian\n\nWhat 3 words for Ra
 nge:\n\n///clockwork.animates.goats\n\n&nbsp\;\n\n&nbsp\;\n\nThis is a 9am
  for 9:30am start both days.\n\nHot food\, tea\, coffee and biscuits will 
 be available on both days.\n\n&nbsp\;\n\nCost to Shoot:\n\nSTAFAA Members\
 n\nAdults: £20 for the both days\, £12 for one day\n\nCubs/Juniors: £8 
 for both days\, £4 for one day&nbsp\;\n\nHousehold Cap £40 for both days
 \n\nNon STAFAA Members:\n\nAdults: £25 for both days\, £15 for one day\n
 \n16 and under: £10 for both days\, £6 for one day\n\n&nbsp\;\n\nBooking
  In will close at 11pm on THURSDAY 4th September 2025\n\nPlease book in us
 ing the form below:\n\n[fluentform id="62"]
ATTACH;FMTTYPE=image/jpeg:https://stafaa.org.uk/wp-content/uploads/2019/11
 /cropped-STAFAA-logo-1.jpg
END:VEVENT
END:VCALENDAR