BEGIN:VCALENDAR
VERSION:2.0
PRODID:-//wp-events-plugin.com//7.2.3.1//EN
BEGIN:VEVENT
UID:5@stafaa.org.uk
DTSTART:20230521T100000Z
DTEND:20230521T170000Z
DTSTAMP:20230514T123653Z
URL:https://stafaa.org.uk/events/stafaa-outdoor-target-championships-2023/
SUMMARY:STAFAA Outdoor Target Championships 2023 hosted by Dunbar Archery C
 lub
DESCRIPTION:\n 	STAFAA would like to invite you to the 2023 STAFAA Target C
 hampionship.\n\nThis will take place at Belhaven Hill School Playing field
 s on Sunday 21st May 2023\n\n&nbsp\;\n\nIt will be a 10:00am for 10:30am s
 tart\n\n&nbsp\;\n\nIt will be be a metric target shoot\, 6 ends of 12 arro
 ws shot in 2 sets of 6 each end (72 arrows total)\n\nThe rounds will be:\n
 \nOpen Compound 50m\, shooting at reduced 80cm face (only inner zones appr
 ox. 40cm face)\n\nOpen Recurve/Barebow 50m\, shooting at 122cm face\n\nOpe
 n Recurve/Barebow 30m\, shooting at 80cm face\n\nUnder 14s All Styles 20m 
 shooting at 122cm face\n\n&nbsp\;\n\nThere will be three styles shot: Recu
 rve\, compound\, Barebow\n\nHere is a broad conversion guide for bow style
 s: ifaa-archerygb-style-guide\n\n&nbsp\;\n\nThis is an open competition to
  which all archers from other Associations are kindly invited and will sho
 ot as guests covered by STAFAA insurance.\n\nAll Archers must present a va
 lid shoot card on the day.\n\nPlease bring a packed lunch.\n\nHot drinks\,
  soft drinks and biscuits will be available.\n\nBelhaven Hill School playi
 ng fields Dunbar East Lothian.\n\nWhat 3 words:\n\nhttps://w3w.co/prancing
 .blindfold.lucky\n\nMore detailed directions: Belhaven Hill School Directi
 ons.docx\n\n&nbsp\;\n\nBooking will close on Friday 19th May at 11pm\n\nPl
 ease use the following form to book in:\n\n[fluentform id="7"]
ATTACH;FMTTYPE=image/jpeg:https://stafaa.org.uk/wp-content/uploads/2022/02
 /target-face.png
END:VEVENT
END:VCALENDAR