BEGIN:VCALENDAR
VERSION:2.0
PRODID:-//wp-events-plugin.com//7.2.3.1//EN
BEGIN:VEVENT
UID:40@stafaa.org.uk
DTSTART:20240630T100000Z
DTEND:20240630T170000Z
DTSTAMP:20240614T222438Z
URL:https://stafaa.org.uk/events/stafaa-outdoor-target-championships-2024-
 hosted-by-mearns-archers/
SUMMARY:STAFAA Outdoor Target Championships 2024 hosted by Mearns Archers
DESCRIPTION:\n 	STAFAA would like to invite you to the 2024 STAFAA Target C
 hampionship.\n\nThis will take place at&nbsp\; Playing fields across from 
 Mearns Academy in Laurencekirk on Sunday 30th June 2024\n\nThis is an open
  competition to which all archers from other Associations are kindly invit
 ed and will shoot as guests covered by STAFAA insurance.\n\nAll Archers mu
 st present a valid shoot card on the day.\n\n&nbsp\;\n\nIt will be a 10:00
 am for 10:30am start\n\n&nbsp\;\n\nThe shoot will take place on the playin
 g fields across from the school\n\n///tungsten.bootleg.harmony\n\nMearns A
 cademy\,\n\nAberdeen Road\,\n\nLaurencekirk\,\n\nAB30 1ZJ\n\n&nbsp\;\n\nIt
  will be be a metric target shoot\, 12 ends of 6 arrows each with archers 
 shooting in 2 waves (AB/CD) alternating first wave each end.\n\nThe rounds
  will be:\n\nOpen Compound 50m\, shooting at reduced 80cm face (only inner
  zones approx. 40cm face)\n\nOpen Recurve/Barebow 50m\, shooting at 122cm 
 face\n\nOpen Recurve/Barebow 30m\, shooting at 80cm face\n\nUnder 14s All 
 Styles 20m shooting at 122cm face\n\n&nbsp\;\n\nThere will be three styles
  shot: Recurve\, compound\, Barebow\n\nHere is a broad conversion guide fo
 r bow styles: ifaa-archerygb-style-guide\n\n&nbsp\;\n\nPlease bring a pack
 ed lunch.\n\nHot drinks\, soft drinks and biscuits will be available.\n\n&
 nbsp\;\n\n&nbsp\;\n\nBooking will close on Friday 28th June at 11pm\n\nPle
 ase use the following form to book in:\n\n[fluentform id="43"]
ATTACH;FMTTYPE=image/jpeg:https://stafaa.org.uk/wp-content/uploads/2022/02
 /target-face.png
END:VEVENT
END:VCALENDAR