BEGIN:VCALENDAR
VERSION:2.0
PRODID:-//wp-events-plugin.com//7.2.3.1//EN
BEGIN:VEVENT
UID:7@stafaa.org.uk
DTSTART:20230702T100000Z
DTEND:20230702T170000Z
DTSTAMP:20230604T210443Z
URL:https://stafaa.org.uk/events/tbc/
SUMMARY:Beecraigs Archers Metric Field Round
DESCRIPTION:Beecraigs Archers would like to invite you to a Metric Field ro
 und.\n\nThis will take place at Beecraigs Field Archery range on Sunday 2n
 d July 2023.\n\n&nbsp\;10:00am for 10:30 start\n\nIt will be shot using Wo
 rld Archery Field Round rules and will NOT count as a classification shoot
 .\n\nIFAA SHooting divisions will be used (e.g Bowhunter\,&nbsp\; Bowhunte
 r Unlimited\, Freestyle\, Freestyle Unlimited Barebow\, longbow\, traditio
 nal recurve etc.)\n\nThis is an open competition to which all archers from
  other Associations are kindly invited and will shoot as guests covered by
  STAFAA insurance.\n\nAll Archers must present a valid shoot card on the d
 ay.\n\n&nbsp\;\n\nHot Food &amp\; drinks available\n\n&nbsp\;\n\nCost:\n\n
 Adults £8\n\nCubs/Juniors £4\n\nHousehold Cap £15\n\n&nbsp\;\n\nBooking
  will close on Friday 30th June at 11pm\n\nPlease use the following form t
 o book in:\n\n[fluentform id="10"]
ATTACH;FMTTYPE=image/jpeg:https://stafaa.org.uk/wp-content/uploads/2023/02
 /metric-field.jpg
END:VEVENT
END:VCALENDAR