BEGIN:VCALENDAR
VERSION:2.0
PRODID:-//wp-events-plugin.com//7.2.3.1//EN
BEGIN:VEVENT
UID:10@stafaa.org.uk
DTSTART:20230716T100000Z
DTEND:20230716T170000Z
DTSTAMP:20230629T222450Z
URL:https://stafaa.org.uk/events/west-fife-archers-field-round/
SUMMARY:West Fife Archers Field Round
DESCRIPTION:West Fife Archers would like to invite you to a Field round.\n\
 nThis will take place at West Fife Field Archery range on Sunday 16th July
  2023.\n\nThe Archery Range is just south of Knockhill Racing Circuit\nTur
 n off A823 towards this location:\n\n///spin.pepper.fairly\n\n&nbsp\;10:00
 am for 10:30 start\n\nIt will be shot using IFAA Field Round rules and wil
 l count as a classification shoot.\n\nThis is an open competition to which
  all archers from other Associations are kindly invited and will shoot as 
 guests covered by STAFAA insurance.\n\nAll Archers must present a valid sh
 oot card on the day.\n\n&nbsp\;\n\nTea\, Coffee and biscuits will be avail
 able on the day so please bring a packed lunch.\n\nCost to Shoot:\n\nAdult
 s: £8\n\nCubs/Juniors: £4\n\nHousehold Cap £15\n\n&nbsp\;\n\nLast date 
 for entries Friday 14th July 11pm\n\nPlease book in using the following fo
 rm\n\n[fluentform id="12"]
ATTACH;FMTTYPE=image/jpeg:https://stafaa.org.uk/wp-content/uploads/2022/02
 /field-face.jpg
END:VEVENT
END:VCALENDAR