BEGIN:VCALENDAR
VERSION:2.0
PRODID:-//wp-events-plugin.com//7.2.3.1//EN
BEGIN:VEVENT
UID:30@stafaa.org.uk
DTSTART:20240616T100000Z
DTEND:20240616T170000Z
DTSTAMP:20240313T215014Z
URL:https://stafaa.org.uk/events/west-fife-archers-hunter-round-2/
SUMMARY:West Fife Archers Hunter Round
DESCRIPTION:West Fife Archers would like to invite you to a Hunter round.\n
 \nThis will take place at West Fife Archers Field Archery range on Sunday 
 16th June 2024 (south of Knockhill Racing circuit)\n\nIt will be shot usin
 g IFAA Hunter Round rules and will count as a classification shoot.\n\nThi
 s is an open competition to which all archers from other Associations are 
 kindly invited and will shoot as guests covered by STAFAA insurance.\n\nAl
 l Archers must present a valid shoot card on the day.\n\n&nbsp\;\n\nDirect
 ions:\n\nTurn off A823 towards this location:\n\n///spin.pepper.fairly\n\n
 10:00 am for 10:30am start\n\n&nbsp\;\n\n&nbsp\;\n\nCost to Shoot:\n\nAdul
 ts: £8\n\nCubs/Juniors: £4\n\nHousehold Cap £15\n\n&nbsp\;\n\nLast date
  for entries Friday 14th June 11pm\n\nPlease book in using the following f
 orm:\n\n[fluentform id="35"]
ATTACH;FMTTYPE=image/jpeg:https://stafaa.org.uk/wp-content/uploads/2022/02
 /hunter-face.png
END:VEVENT
END:VCALENDAR