BEGIN:VCALENDAR
VERSION:2.0
PRODID:-//wp-events-plugin.com//7.2.3.1//EN
BEGIN:VEVENT
UID:15@stafaa.org.uk
DTSTART:20231008T100000Z
DTEND:20231008T170000Z
DTSTAMP:20230823T221736Z
URL:https://stafaa.org.uk/events/west-lothian-2d-animal-shoot-2/
SUMMARY:West Lothian Archers Unmarked 3D Animal Shoot
DESCRIPTION:West Lothian Archers&nbsp\; would like to invite you to a 3D Un
 marked Animal round.\n\nThis will take place at West Lothian Field Archery
  range on Sunday 8th October 2023.\n\n///along.rafters.shun\n\n&nbsp\;10:0
 0am for 10:30 start\n\nIt will be shot using IFAA 3 Arrow 3D Animal rules.
 \n\nThis is an open competition to which all archers from other Associatio
 ns are kindly invited and will shoot as guests covered by STAFAA insurance
 .\n\nAll Archers must present a valid shoot card on the day.\n\nPlease mak
 e sure you ring your arrows!\n\n&nbsp\;\n\nThis competition will also inco
 rporate the West Lothian Archers Club Championship\, open to all West Loth
 ian Archers.\n\n&nbsp\;\n\nHot Food will be available on the day\n\nCost:\
 n\n£8 for Adults\n\n£4 for Cubs/Juniors\n\nFamily cap of £15\n\nPayment
  can be made by bank transfer or on the day\n\nEntries close on Friday 6th
  October 11pm\n\nPlease book in using the form below (Form will open on 22
 nd September):\n\n[fluentform id="15"]
ATTACH;FMTTYPE=image/jpeg:https://stafaa.org.uk/wp-content/uploads/2019/11
 /3d.jpg
END:VEVENT
END:VCALENDAR