BEGIN:VCALENDAR
VERSION:2.0
PRODID:-//wp-events-plugin.com//7.2.3.1//EN
BEGIN:VEVENT
UID:41@stafaa.org.uk
DTSTART;TZID=Europe/London:20240421T100000
DTEND;TZID=Europe/London:20240421T173000
DTSTAMP:20240414T165554Z
URL:https://stafaa.org.uk/events/west-lothian-archers-field-round-2/
SUMMARY:West Lothian Archers Field Round
DESCRIPTION:West Lothian Archers would like to invite you to a Field round.
 \n\nThis will take place at West Lothian Field Archery range on Sunday 21s
 t April 2024.\n\nIt will be shot using IFAA Field Round rules and will cou
 nt as a classification shoot.\n\nThis is an open competition to which all 
 archers from other Associations are kindly invited and will shoot as guest
 s covered by STAFAA insurance.\n\nAll Archers must present a valid shoot c
 ard on the day.\n\n&nbsp\;\n\nlocation of gate from main road\n\n///along.
 rafters.shun\n\n&nbsp\;10:00am for 10:30 start\n\nHot Food will be availab
 le on the day\n\n&nbsp\;\n\nCost:\n\n£8 for Adults\n\n£4 for Cubs/Junior
 s\n\nFamily cap of £15\n\nPayment can be made by bank transfer or on the 
 day\n\nEntries close on Friday 19th April\n\nPlease book in using the form
  below:\n\n&nbsp\;\n\n[fluentform id="45"]
ATTACH;FMTTYPE=image/jpeg:https://stafaa.org.uk/wp-content/uploads/2022/02
 /field-face.jpg
END:VEVENT
BEGIN:VTIMEZONE
TZID:Europe/London
X-LIC-LOCATION:Europe/London
BEGIN:DAYLIGHT
DTSTART:20240331T020000
TZOFFSETFROM:+0000
TZOFFSETTO:+0100
TZNAME:BST
END:DAYLIGHT
END:VTIMEZONE
END:VCALENDAR