BEGIN:VCALENDAR
VERSION:2.0
PRODID:-//wp-events-plugin.com//7.2.3.1//EN
BEGIN:VEVENT
UID:55@stafaa.org.uk
DTSTART;TZID=Europe/London:20250810T100000
DTEND;TZID=Europe/London:20250810T173000
DTSTAMP:20250313T192956Z
URL:https://stafaa.org.uk/events/west-lothian-archers-hunter-round-2/
SUMMARY:West Lothian Archers Hunter Round - 10th August 2025
DESCRIPTION:West Lothian Archers would like to invite you to a Hunter round
 .\n\nThis will take place at West Lothian Field Archery range on Sunday 10
 th August 2024.\n\nIt will be shot using IFAA Hunter Round rules and will 
 count as a classification shoot.\n\nThis is an open competition to which a
 ll archers from other Associations are kindly invited and will shoot as gu
 ests covered by STAFAA insurance.\n\nAll Archers must present a valid shoo
 t card on the day.\n\n&nbsp\;\n\nlocation of gate from main road\n\n///alo
 ng.rafters.shun\n\n&nbsp\;10:00am for 10:30 start\n\nHot Food will be avai
 lable on the day\n\n&nbsp\;\n\nCost:\n\n£10 for Adults\n\n£5 for Cubs/Ju
 niors\n\nFamily cap of £20\n\nPayment can be made by bank transfer or on 
 the day\n\nEntries close on Friday 8th August\n\nPlease book in using the 
 form below:\n\n[fluentform id="60"]\n\n&nbsp\;
ATTACH;FMTTYPE=image/jpeg:https://stafaa.org.uk/wp-content/uploads/2022/02
 /hunter-face.png
END:VEVENT
BEGIN:VTIMEZONE
TZID:Europe/London
X-LIC-LOCATION:Europe/London
BEGIN:DAYLIGHT
DTSTART:20250330T020000
TZOFFSETFROM:+0000
TZOFFSETTO:+0100
TZNAME:BST
END:DAYLIGHT
END:VTIMEZONE
END:VCALENDAR