BEGIN:VCALENDAR
VERSION:2.0
PRODID:-//wp-events-plugin.com//7.2.3.1//EN
BEGIN:VEVENT
UID:37@stafaa.org.uk
DTSTART:20240929T100000Z
DTEND:20240929T170000Z
DTSTAMP:20240313T222658Z
URL:https://stafaa.org.uk/events/west-lothian-archers-hunter-round-club-ch
 ampionship/
SUMMARY:West Lothian Archers Hunter Round (club championship)
DESCRIPTION:West Lothian Archers would like to invite you to a Hunter round
 .\n\nThis will take place at West Lothian Field Archery range on Sunday 29
 th September 2024.\n\nIt will be shot using IFAA Hunter Round rules and wi
 ll count as a classification shoot.\n\nThis is an open competition to whic
 h all archers from other Associations are kindly invited and will shoot as
  guests covered by STAFAA insurance.\n\nAll Archers must present a valid s
 hoot card on the day.\n\n&nbsp\;\n\nThere will also be an additional compe
 tition for West Lothian Club champion open to all West Lothian archers.\n\
 n&nbsp\;\n\nMain road gate location:\n\n///along.rafters.shun\n\n&nbsp\;10
 :00am for 10:30 start\n\nHot Food will be available on the day\n\n&nbsp\;\
 n\nCost:\n\n£8 for Adults\n\n£4 for Cubs/Juniors\n\nFamily cap of £15\n
 \nPayment can be made by bank transfer or on the day\n\nEntries close on F
 riday 27th September\n\nPlease book in using the form below:\n\n[fluentfor
 m id="41"]\n\n&nbsp\;
ATTACH;FMTTYPE=image/jpeg:https://stafaa.org.uk/wp-content/uploads/2022/02
 /hunter-face.png
END:VEVENT
END:VCALENDAR