BEGIN:VCALENDAR
VERSION:2.0
PRODID:-//wp-events-plugin.com//7.2.3.1//EN
BEGIN:VEVENT
UID:6@stafaa.org.uk
DTSTART:20230604T100000Z
DTEND:20230604T170000Z
DTSTAMP:20230514T210228Z
URL:https://stafaa.org.uk/events/west-lothian-archers-hunter-round/
SUMMARY:West Lothian Archers Hunter Round
DESCRIPTION:West Lothian Archers would like to invite you to a Hunter round
 .\n\nThis will take place at West Lothian Field Archery range on Sunday 4t
 h June 2023.\n\n///along.rafters.shun\n\n&nbsp\;10:00am for 10:30 start\n\
 nIt will be shot using IFAA Hunter Round rules and will count as a classif
 ication shoot.\n\nThis is an open competition to which all archers from ot
 her Associations are kindly invited and will shoot as guests covered by ST
 AFAA insurance.\n\nAll Archers must present a valid shoot card on the day.
 \n\n&nbsp\;\n\nHot Food will be available on the day\n\n&nbsp\;\n\nCost:\n
 \n£8 for Adults\n\n£4 for Cubs/Juniors\n\nFamily cap of £15\n\nPayment 
 can be made by bank transfer or on the day\n\nEntries close on Friday 2nd 
 June\n\nPlease book in using the form below:\n\n&nbsp\;\n\n[fluentform id=
 "8"]\n\n&nbsp\;
ATTACH;FMTTYPE=image/jpeg:https://stafaa.org.uk/wp-content/uploads/2022/02
 /hunter-face.png
END:VEVENT
END:VCALENDAR