BEGIN:VCALENDAR
VERSION:2.0
PRODID:-//wp-events-plugin.com//7.2.3.1//EN
BEGIN:VEVENT
UID:16@stafaa.org.uk
DTSTART:20230903T130000Z
DTEND:20230903T170000Z
DTSTAMP:20230902T111454Z
URL:https://stafaa.org.uk/events/west-lothian-jim-greig-bench-unveiling-fu
 n-shoot/
SUMMARY:West Lothian Archers Jim Greig Bench unveiling fun shoot
DESCRIPTION:The wait is over\, after a long time and scrolling through hund
 reds of websites we finally sourced a memorial bench that is made from 100
 % recycled plastic with a lifetime guarantee. Angela and Fiona (Jim's daug
 hters) will be unveiling this wonderful tribute to their dad. There will a
 lso be a fun shoot of 14 targets consisting of field\, hunter\, 2d animal\
 , target faces and 3D animal.\n\nRefreshments\, cake\, biscuits and nibble
 s will be available on the day.\n\nThere is no charge for this event\, thi
 s event is open to everyone\, please share so as many archers as possible 
 are aware.\n\nThis will take place at West Lothian Field Archery Range on 
 Sunday 3rd September 2023.\n\n///along.rafters.shun\n\n1pm for 1:30pm star
 t\n\n&nbsp\;\n\nAll welcome\, come along for a bit of a social or a shoot
ATTACH;FMTTYPE=image/jpeg:https://stafaa.org.uk/wp-content/uploads/2021/09
 /image-6.png
END:VEVENT
END:VCALENDAR